BEGIN:VCALENDAR
VERSION:2.0
PRODID:icalendar-ruby
CALSCALE:GREGORIAN
METHOD:PUBLISH
BEGIN:VEVENT
DTSTAMP:20260420T045510Z
UID:57-169072@newdayumc.com
DTSTART:20260426T140000Z
DTEND:20260426T150000Z
CLASS:PUBLIC
CREATED:20260419T164845
DESCRIPTION:Join us as we explore the Gospel of John and discover who Jesus
  is and what that means for our everyday lives. Through this series\, we
 ’ll look at the life\, words\, and purpose of Jesus—and how His messag
 e still speaks into where we are today.\nStay after worship for a deeper d
 ive through our companion Bible study.
LAST-MODIFIED:20260419T164845
LOCATION:New Day UMC 6690 Ruwes Oak Drive\, Cincinnati\, OH 45248
SUMMARY:Sunday Worship: Book of John
URL;VALUE=URI:https://newdayumc.com/events/sunday-worship-book-of-john/2026
 -04-26
ATTACH;FILENAME=Book-of-John-sermon-series.png;FMTTYPE=image/png:https://dq
 5pwpg1q8ru0.cloudfront.net/2026/04/15/16/19/08/f64f4ddd-d5cc-4f02-8d39-aa7
 79bbba641/Book-of-John-sermon-series.png
END:VEVENT
END:VCALENDAR
